BEGIN:VCALENDAR
VERSION:2.0
PRODID:http://www.infomax-online.de/imxeventmanager/
METHOD:PUBLISH
BEGIN:VTIMEZONE
TZID:Europe/Berlin
TZURL:http://tzurl.org/zoneinfo-outlook/Europe/Berlin
X-LIC-LOCATION:Europe/Berlin
END:VTIMEZONE
BEGIN:VEVENT
UID:69ecd16b7c5cc
LOCATION:Am Güterbahnhof 5, 17033 Neubrandenburg
SUMMARY;ENCODING=QUOTED-PRINTABLE:SaitenSprung - The live piano evening
DESCRIPTION;ENCODING=QUOTED-PRINTABLE:Thursday, 05.03.2026 - from 20.00 hrs Enjoy stylish and live piano=0D=0Amusic in the MOHNBLAU Bar & Smokers' Lounge
URL;VALUE=URI:https://tmvwhl.infomaxnet.de/nb-en/en/e-saitensprung-the-live-piano-evening?eventDateId=20251829&widgetToken=2UvrbVzILvI.&
CLASS:PUBLIC
DTSTART:20260507T200000
DTSTAMP:20260425T163627
END:VEVENT
END:VCALENDAR