BEGIN:VCALENDAR
VERSION:2.0
PRODID:http://www.infomax-online.de/imxeventmanager/
METHOD:PUBLISH
BEGIN:VTIMEZONE
TZID:Europe/Berlin
TZURL:http://tzurl.org/zoneinfo-outlook/Europe/Berlin
X-LIC-LOCATION:Europe/Berlin
END:VTIMEZONE
BEGIN:VEVENT
UID:69ecf5c090027
LOCATION:Große Wollweberstraße 24, 17033 Neubrandenburg
SUMMARY;ENCODING=QUOTED-PRINTABLE:Ceremonial unveiling Herbert Mehler - Colonna_4000_16
DESCRIPTION;ENCODING=QUOTED-PRINTABLE:Ceremonial inauguration of the new forecourt and the sculpture by=0D=0AHerbert Mehler at the Neubrandenburg Art Collection.
URL;VALUE=URI:https://tmvwhl.infomaxnet.de/nb-en/en/e-solemn-unveiling-herbert-mehler-colonna_4000_16?eventDateId=20249899&widgetToken=2UvrbVzILvI.&
CLASS:PUBLIC
DTSTART:20260425T140000
DTSTAMP:20260425T191128
END:VEVENT
END:VCALENDAR