BEGIN:VCALENDAR
VERSION:2.0
PRODID:http://www.infomax-online.de/imxeventmanager/
METHOD:PUBLISH
BEGIN:VTIMEZONE
TZID:Europe/Berlin
TZURL:http://tzurl.org/zoneinfo-outlook/Europe/Berlin
X-LIC-LOCATION:Europe/Berlin
END:VTIMEZONE
BEGIN:VEVENT
UID:69ece11cbcfb5
LOCATION:Marktplatz 1, 17033 Neubrandenburg
SUMMARY;ENCODING=QUOTED-PRINTABLE:Swap bar "Mangas and comics"
DESCRIPTION;ENCODING=QUOTED-PRINTABLE:On the occasion of the nationwide Free Comic Book Day campaign, young=0D=0Acomic fans can not only look forward to free comic books.
URL;VALUE=URI:https://tmvwhl.infomaxnet.de/nb-en/en/e-swappable-mangas-and-comics?eventDateId=20249238&widgetToken=2UvrbVzILvI.&
CLASS:PUBLIC
DTSTART:20260509T100000
DTSTAMP:20260425T174324
END:VEVENT
END:VCALENDAR