BEGIN:VCALENDAR
VERSION:2.0
PRODID:http://www.infomax-online.de/imxeventmanager/
METHOD:PUBLISH
BEGIN:VTIMEZONE
TZID:Europe/Berlin
TZURL:http://tzurl.org/zoneinfo-outlook/Europe/Berlin
X-LIC-LOCATION:Europe/Berlin
END:VTIMEZONE
BEGIN:VEVENT
UID:69ecf4c28df81
LOCATION:Jahnstr. 3a, 17033 Neubrandenburg
SUMMARY;ENCODING=QUOTED-PRINTABLE:Latin Night
DESCRIPTION;ENCODING=QUOTED-PRINTABLE:Hot rhythms, good vibes and a night full of dancing! Look forward to=0D=0Asalsa, bachata & reggaeton and start with a salsa workshop before the=0D=0Aparty really gets going.
URL;VALUE=URI:https://tmvwhl.infomaxnet.de/nb-en/en/e-latin-night-1?eventDateId=20248143&widgetToken=2UvrbVzILvI.&
CLASS:PUBLIC
DTSTART:20260502T190000
DTSTAMP:20260425T190714
END:VEVENT
END:VCALENDAR