BEGIN:VCALENDAR
VERSION:2.0
PRODID:http://www.infomax-online.de/imxeventmanager/
METHOD:PUBLISH
BEGIN:VTIMEZONE
TZID:Europe/Berlin
TZURL:http://tzurl.org/zoneinfo-outlook/Europe/Berlin
X-LIC-LOCATION:Europe/Berlin
END:VTIMEZONE
BEGIN:VEVENT
UID:69eccf409d919
LOCATION:Ziegelbergstr. 5a, 17033 Neubrandenburg
SUMMARY;ENCODING=QUOTED-PRINTABLE:Breathtaking
DESCRIPTION;ENCODING=QUOTED-PRINTABLE:Students of the woodwind department of the Kreismusikschule Kon.centus=0D=0Acordially invite you to their departmental concert.
URL;VALUE=URI:https://tmvwhl.infomaxnet.de/nb-en/en/e-breathtaking-1?eventDateId=20241376&widgetToken=2UvrbVzILvI.&
CLASS:PUBLIC
DTSTART:20260508T180000
DTSTAMP:20260425T162712
END:VEVENT
END:VCALENDAR