BEGIN:VCALENDAR
VERSION:2.0
PRODID:http://www.infomax-online.de/imxeventmanager/
METHOD:PUBLISH
BEGIN:VTIMEZONE
TZID:Europe/Berlin
TZURL:http://tzurl.org/zoneinfo-outlook/Europe/Berlin
X-LIC-LOCATION:Europe/Berlin
END:VTIMEZONE
BEGIN:VEVENT
UID:69ece232cc1ce
LOCATION:Ihlenfelder Straße 77, 17034 Neubrandenburg
SUMMARY;ENCODING=QUOTED-PRINTABLE:Unplugged
DESCRIPTION;ENCODING=QUOTED-PRINTABLE:Favorite songs. Real. Close. Live.
URL;VALUE=URI:https://tmvwhl.infomaxnet.de/nb-en/en/e-unplugged?eventDateId=20239202&widgetToken=2UvrbVzILvI.&
CLASS:PUBLIC
DTSTART:20260429T193000
DTSTAMP:20260425T174802
END:VEVENT
END:VCALENDAR