BEGIN:VCALENDAR
VERSION:2.0
PRODID:http://www.infomax-online.de/imxeventmanager/
METHOD:PUBLISH
BEGIN:VTIMEZONE
TZID:Europe/Berlin
TZURL:http://tzurl.org/zoneinfo-outlook/Europe/Berlin
X-LIC-LOCATION:Europe/Berlin
END:VTIMEZONE
BEGIN:VEVENT
UID:69eccf5d1bc10
LOCATION:Marktplatz 1, 17033 Neubrandenburg
SUMMARY;ENCODING=QUOTED-PRINTABLE:"Narrated homeland: The chronicle of Groß Nemerow" - A book=0D=0Apresentation
DESCRIPTION;ENCODING=QUOTED-PRINTABLE:In 2020, the chronicle team from the Groß Nemerow cultural=0D=0Aassociation began work on updating and rewriting a community=0D=0Achronicle. The result is a comprehensive work with numerous anecdotes=0D=0Aand exciting stories.
URL;VALUE=URI:https://tmvwhl.infomaxnet.de/nb-en/en/e-erzaehlte-heimat-die-chronik-von-gross-nemerow-a-book-introduction?eventDateId=20234438&widgetToken=2UvrbVzILvI.&
CLASS:PUBLIC
DTSTART:20260506T170000
DTSTAMP:20260425T162741
END:VEVENT
END:VCALENDAR