BEGIN:VCALENDAR
VERSION:2.0
PRODID:http://www.infomax-online.de/imxeventmanager/
METHOD:PUBLISH
BEGIN:VTIMEZONE
TZID:Europe/Berlin
TZURL:http://tzurl.org/zoneinfo-outlook/Europe/Berlin
X-LIC-LOCATION:Europe/Berlin
END:VTIMEZONE
BEGIN:VEVENT
UID:69eccf734b13d
LOCATION:Marktplatz 1, 17033 Neubrandenburg
SUMMARY;ENCODING=QUOTED-PRINTABLE:Opening of the exhibition "History of comics in the GDR"
DESCRIPTION;ENCODING=QUOTED-PRINTABLE:Exhibition of Thomas Möller's extensive collection on the history of=0D=0Acomics in the GDR.
URL;VALUE=URI:https://tmvwhl.infomaxnet.de/nb-en/en/e-exhibition-opening-history-of-comics-in-the-ddr?eventDateId=20227662&widgetToken=2UvrbVzILvI.&
CLASS:PUBLIC
DTSTART:20260504T173000
DTSTAMP:20260425T162803
END:VEVENT
END:VCALENDAR