BEGIN:VCALENDAR
VERSION:2.0
PRODID:http://www.infomax-online.de/imxeventmanager/
METHOD:PUBLISH
BEGIN:VTIMEZONE
TZID:Europe/Berlin
TZURL:http://tzurl.org/zoneinfo-outlook/Europe/Berlin
X-LIC-LOCATION:Europe/Berlin
END:VTIMEZONE
BEGIN:VEVENT
UID:69ecb90956cab
LOCATION:Marktplatz 1, 17033 Neubrandenburg
SUMMARY;ENCODING=QUOTED-PRINTABLE:Reading circle
DESCRIPTION;ENCODING=QUOTED-PRINTABLE:We chat about new releases in fiction and non-fiction.
URL;VALUE=URI:https://tmvwhl.infomaxnet.de/nb-en/en/e-reading-circle-rbnb?eventDateId=20227654&widgetToken=2UvrbVzILvI.&
CLASS:PUBLIC
DTSTART:20260428T160000
DTSTAMP:20260425T145225
END:VEVENT
END:VCALENDAR