BEGIN:VCALENDAR
VERSION:2.0
PRODID:http://www.infomax-online.de/imxeventmanager/
METHOD:PUBLISH
BEGIN:VTIMEZONE
TZID:Europe/Berlin
TZURL:http://tzurl.org/zoneinfo-outlook/Europe/Berlin
X-LIC-LOCATION:Europe/Berlin
END:VTIMEZONE
BEGIN:VEVENT
UID:69ed0bed0a24d
LOCATION:An der Marienkirche , 17033 Neubrandenburg
SUMMARY;ENCODING=QUOTED-PRINTABLE:Tour in the concert church Neubrandenburg
DESCRIPTION;ENCODING=QUOTED-PRINTABLE:As a concert church in Neubrandenburg, the Marienkirche offers a=0D=0Acontrasting program. Outside: Gothic brick church - inside: Concert=0D=0Ahall made of glass, concrete, steel and wood.
URL;VALUE=URI:https://tmvwhl.infomaxnet.de/nb-en/en/e-tour-in-the-concert-church-neubrandenburg?eventDateId=20209938&widgetToken=2UvrbVzILvI.&
CLASS:PUBLIC
DTSTART:20260427T133000
DTSTAMP:20260425T204605
END:VEVENT
END:VCALENDAR