BEGIN:VCALENDAR
VERSION:2.0
PRODID:http://www.infomax-online.de/imxeventmanager/
METHOD:PUBLISH
BEGIN:VTIMEZONE
TZID:Europe/Berlin
TZURL:http://tzurl.org/zoneinfo-outlook/Europe/Berlin
X-LIC-LOCATION:Europe/Berlin
END:VTIMEZONE
BEGIN:VEVENT
UID:69ecb91d2d984
LOCATION:Marktplatz 1, 17033 Neubrandenburg
SUMMARY;ENCODING=QUOTED-PRINTABLE:Neubrandenburg Book Spring
DESCRIPTION;ENCODING=QUOTED-PRINTABLE:The traditional book spring has been taking place in the four-gate=0D=0Acity of Neubrandenburg for over 30 years. On April 25, 2026, author=0D=0Aand film star Sabin Tambrea will open this year's Book Spring with his=0D=0Abook "Vaterländer".
URL;VALUE=URI:https://tmvwhl.infomaxnet.de/nb-en/en/e-neubrandenburg-buecherfruehling?eventDateId=20138894&widgetToken=2UvrbVzILvI.&
CLASS:PUBLIC
DTSTART:20260425T190000
DTSTAMP:20260425T145245
END:VEVENT
END:VCALENDAR