BEGIN:VCALENDAR
VERSION:2.0
PRODID:http://www.infomax-online.de/imxeventmanager/
METHOD:PUBLISH
BEGIN:VTIMEZONE
TZID:Europe/Berlin
TZURL:http://tzurl.org/zoneinfo-outlook/Europe/Berlin
X-LIC-LOCATION:Europe/Berlin
END:VTIMEZONE
BEGIN:VEVENT
UID:69eca74d380d5
LOCATION:Pfaffenstraße 22, 17033 Neubrandenburg
SUMMARY;ENCODING=QUOTED-PRINTABLE:Carnival of the animals
DESCRIPTION;ENCODING=QUOTED-PRINTABLE:An animal story (5+) for narrator, wind quintet and percussion
URL;VALUE=URI:https://tmvwhl.infomaxnet.de/nb-en/en/e-carnival-of-animals-6-1?eventDateId=20077031&widgetToken=2UvrbVzILvI.&
CLASS:PUBLIC
DTSTART:20260428T090000
DTSTAMP:20260425T133645
END:VEVENT
END:VCALENDAR