BEGIN:VCALENDAR
VERSION:2.0
PRODID:http://www.infomax-online.de/imxeventmanager/
METHOD:PUBLISH
BEGIN:VTIMEZONE
TZID:Europe/Berlin
TZURL:http://tzurl.org/zoneinfo-outlook/Europe/Berlin
X-LIC-LOCATION:Europe/Berlin
END:VTIMEZONE
BEGIN:VEVENT
UID:69ecbade87aec
LOCATION:An der Marienkirche , 17033 Neubrandenburg
SUMMARY;ENCODING=QUOTED-PRINTABLE:Luciano
DESCRIPTION;ENCODING=QUOTED-PRINTABLE:3 tenors celebrate a legend
URL;VALUE=URI:https://tmvwhl.infomaxnet.de/nb-en/en/e-luciano?eventDateId=20031015&widgetToken=2UvrbVzILvI.&
CLASS:PUBLIC
DTSTART:20260425T160000
DTSTAMP:20260425T150014
END:VEVENT
END:VCALENDAR