BEGIN:VCALENDAR
VERSION:2.0
PRODID:http://www.infomax-online.de/imxeventmanager/
METHOD:PUBLISH
BEGIN:VTIMEZONE
TZID:Europe/Berlin
TZURL:http://tzurl.org/zoneinfo-outlook/Europe/Berlin
X-LIC-LOCATION:Europe/Berlin
END:VTIMEZONE
BEGIN:VEVENT
UID:69eccf6e48a19
LOCATION:Pfaffenstraße 22, 17033 Neubrandenburg
SUMMARY;ENCODING=QUOTED-PRINTABLE:Music at coffee time
DESCRIPTION;ENCODING=QUOTED-PRINTABLE:Chamber music at the Schauspielhaus Neubrandenburg
URL;VALUE=URI:https://tmvwhl.infomaxnet.de/nb-en/en/e-music-at-coffee-time-3?eventDateId=19940941&widgetToken=2UvrbVzILvI.&
CLASS:PUBLIC
DTSTART:20260503T160000
DTSTAMP:20260425T162758
END:VEVENT
END:VCALENDAR