BEGIN:VCALENDAR
VERSION:2.0
PRODID:http://www.infomax-online.de/imxeventmanager/
METHOD:PUBLISH
BEGIN:VTIMEZONE
TZID:Europe/Berlin
TZURL:http://tzurl.org/zoneinfo-outlook/Europe/Berlin
X-LIC-LOCATION:Europe/Berlin
END:VTIMEZONE
BEGIN:VEVENT
UID:69ecf3e66dfa1
LOCATION:Am Güterbahnhof 5, 17033 Neubrandenburg
SUMMARY;ENCODING=QUOTED-PRINTABLE:SaitenSprung - Der Live-Klavierabend
DESCRIPTION;ENCODING=QUOTED-PRINTABLE:Ab 20.00 Uhr wird's gefühlvoll und mitreißend - immer live
URL;VALUE=URI:https://tmvwhl.infomaxnet.de/nb-de/e-saitensprung-der-live-klavierabend?eventDateId=20251829&widgetToken=2UvrbVzILvI.&
CLASS:PUBLIC
DTSTART:20260507T200000
DTSTAMP:20260425T190334
END:VEVENT
END:VCALENDAR