BEGIN:VCALENDAR
VERSION:2.0
PRODID:http://www.infomax-online.de/imxeventmanager/
METHOD:PUBLISH
BEGIN:VTIMEZONE
TZID:Europe/Berlin
TZURL:http://tzurl.org/zoneinfo-outlook/Europe/Berlin
X-LIC-LOCATION:Europe/Berlin
END:VTIMEZONE
BEGIN:VEVENT
UID:69ed07fb4daba
LOCATION:Große Wollweberstraße 24, 17033 Neubrandenburg
SUMMARY;ENCODING=QUOTED-PRINTABLE:Feierliche Enthüllung Herbert Mehler — Colonna_4000_16
DESCRIPTION;ENCODING=QUOTED-PRINTABLE:Feierliche Einweihung des neuen Vorplatzes und der Skulptur von=0D=0AHerbert Mehler an der Kunstsammlung Neubrandenburg.
URL;VALUE=URI:https://tmvwhl.infomaxnet.de/nb-de/e-feierliche-enthuellung-herbert-mehler-colonna_4000_16?eventDateId=20249899&widgetToken=2UvrbVzILvI.&
CLASS:PUBLIC
DTSTART:20260425T140000
DTSTAMP:20260425T202915
END:VEVENT
END:VCALENDAR