BEGIN:VCALENDAR
VERSION:2.0
PRODID:http://www.infomax-online.de/imxeventmanager/
METHOD:PUBLISH
BEGIN:VTIMEZONE
TZID:Europe/Berlin
TZURL:http://tzurl.org/zoneinfo-outlook/Europe/Berlin
X-LIC-LOCATION:Europe/Berlin
END:VTIMEZONE
BEGIN:VEVENT
UID:69ece0a67de79
LOCATION:Marktplatz 1, 17033 Neubrandenburg
SUMMARY;ENCODING=QUOTED-PRINTABLE:TauschBar »Mangas und Comics«
DESCRIPTION;ENCODING=QUOTED-PRINTABLE:Anlässlich der bundesweiten Aktion zum Gratis Comic Tag können sich=0D=0Ajunge Comic-Fans nicht nur über kostenfreie Hefte freuen.
URL;VALUE=URI:https://tmvwhl.infomaxnet.de/nb-de/e-tauschbar-mangas-und-comics?eventDateId=20249238&widgetToken=2UvrbVzILvI.&
CLASS:PUBLIC
DTSTART:20260509T100000
DTSTAMP:20260425T174126
END:VEVENT
END:VCALENDAR