BEGIN:VCALENDAR
VERSION:2.0
PRODID:http://www.infomax-online.de/imxeventmanager/
METHOD:PUBLISH
BEGIN:VTIMEZONE
TZID:Europe/Berlin
TZURL:http://tzurl.org/zoneinfo-outlook/Europe/Berlin
X-LIC-LOCATION:Europe/Berlin
END:VTIMEZONE
BEGIN:VEVENT
UID:69ed1a34b5b06
LOCATION:Ziegelberstr. 5, 17033 Neubrandenburg
SUMMARY;ENCODING=QUOTED-PRINTABLE:"Atemberaubendes"
DESCRIPTION;ENCODING=QUOTED-PRINTABLE:Schülerinnen und Schüler des Fachbereiches Holzbläser der=0D=0AKreismusikschule Kon.centus laden zum Abteilungskonzert herzlich ein.
URL;VALUE=URI:https://tmvwhl.infomaxnet.de/nb-de/e-atemberaubendes?eventDateId=20243652&widgetToken=2UvrbVzILvI.&
CLASS:PUBLIC
DTSTART:20260508T180000
DTSTAMP:20260425T214700
END:VEVENT
END:VCALENDAR