BEGIN:VCALENDAR
VERSION:2.0
PRODID:http://www.infomax-online.de/imxeventmanager/
METHOD:PUBLISH
BEGIN:VTIMEZONE
TZID:Europe/Berlin
TZURL:http://tzurl.org/zoneinfo-outlook/Europe/Berlin
X-LIC-LOCATION:Europe/Berlin
END:VTIMEZONE
BEGIN:VEVENT
UID:69ecf40448419
LOCATION:Ziegelbergstr. 5a, 17033 Neubrandenburg
SUMMARY;ENCODING=QUOTED-PRINTABLE:Atemberaubendes
DESCRIPTION;ENCODING=QUOTED-PRINTABLE:Schülerinnen und Schüler des Fachbereiches Holzbläser der=0D=0AKreismusikschule Kon.centus laden sehr herzlich zu ihrem=0D=0AAbteilungskonzert ein.
URL;VALUE=URI:https://tmvwhl.infomaxnet.de/nb-de/e-atemberaubendes-1?eventDateId=20241376&widgetToken=2UvrbVzILvI.&
CLASS:PUBLIC
DTSTART:20260508T180000
DTSTAMP:20260425T190404
END:VEVENT
END:VCALENDAR