BEGIN:VCALENDAR
VERSION:2.0
PRODID:http://www.infomax-online.de/imxeventmanager/
METHOD:PUBLISH
BEGIN:VTIMEZONE
TZID:Europe/Berlin
TZURL:http://tzurl.org/zoneinfo-outlook/Europe/Berlin
X-LIC-LOCATION:Europe/Berlin
END:VTIMEZONE
BEGIN:VEVENT
UID:69ed0878054e1
LOCATION:Ihlenfelder Straße 77, 17034 Neubrandenburg
SUMMARY;ENCODING=QUOTED-PRINTABLE:Nie wieder. Jetzt
DESCRIPTION;ENCODING=QUOTED-PRINTABLE:Schauspiel mit Musik über Anne Frank und das Leben im Hinterhaus.
URL;VALUE=URI:https://tmvwhl.infomaxnet.de/nb-de/e-nie-wieder-jetzt-1?eventDateId=20239199&widgetToken=2UvrbVzILvI.&
CLASS:PUBLIC
DTSTART:20260430T193000
DTSTAMP:20260425T203120
END:VEVENT
END:VCALENDAR