BEGIN:VCALENDAR
VERSION:2.0
PRODID:http://www.infomax-online.de/imxeventmanager/
METHOD:PUBLISH
BEGIN:VTIMEZONE
TZID:Europe/Berlin
TZURL:http://tzurl.org/zoneinfo-outlook/Europe/Berlin
X-LIC-LOCATION:Europe/Berlin
END:VTIMEZONE
BEGIN:VEVENT
UID:69ece16b45878
LOCATION:Marktplatz 1, 17033 Neubrandenburg
SUMMARY;ENCODING=QUOTED-PRINTABLE:»Erzählte Heimat: Die Chronik von Groß Nemerow« - Eine=0D=0ABuchvorstellung
DESCRIPTION;ENCODING=QUOTED-PRINTABLE:Das Chronikteam vom Kulturverein Groß Nemerow nahm 2020 die Arbeit=0D=0Azur Aktualisierung und Neuschrift einer Gemeindechronik auf.=0D=0AHerausgekommen ist ein umfangreiches Werk mit zahlreichen Anekdoten=0D=0Aund spannenden Geschichten.
URL;VALUE=URI:https://tmvwhl.infomaxnet.de/nb-de/e-erzaehlte-heimat-die-chronik-von-gross-nemerow-eine-buchvorstellung?eventDateId=20234438&widgetToken=2UvrbVzILvI.&
CLASS:PUBLIC
DTSTART:20260506T170000
DTSTAMP:20260425T174443
END:VEVENT
END:VCALENDAR