BEGIN:VCALENDAR
VERSION:2.0
PRODID:http://www.infomax-online.de/imxeventmanager/
METHOD:PUBLISH
BEGIN:VTIMEZONE
TZID:Europe/Berlin
TZURL:http://tzurl.org/zoneinfo-outlook/Europe/Berlin
X-LIC-LOCATION:Europe/Berlin
END:VTIMEZONE
BEGIN:VEVENT
UID:69ed1a822056e
LOCATION:An der Marienkirche , 17033 Neubrandenburg
SUMMARY;ENCODING=QUOTED-PRINTABLE:Besichtigung in der Konzertkirche Neubrandenburg
DESCRIPTION;ENCODING=QUOTED-PRINTABLE:Als Konzertkirche Neubrandenburg bietet die Marienkirche ein=0D=0AKontrastprogramm. Außen: Gotische Backsteinkirche – Innen:=0D=0AKonzertsaal aus Glas, Beton, Stahl und Holz.
URL;VALUE=URI:https://tmvwhl.infomaxnet.de/nb-de/e-besichtigung-in-der-konzertkirche-neubrandenburg?eventDateId=20209938&widgetToken=2UvrbVzILvI.&
CLASS:PUBLIC
DTSTART:20260427T133000
DTSTAMP:20260425T214818
END:VEVENT
END:VCALENDAR