BEGIN:VCALENDAR
VERSION:2.0
PRODID:http://www.infomax-online.de/imxeventmanager/
METHOD:PUBLISH
BEGIN:VTIMEZONE
TZID:Europe/Berlin
TZURL:http://tzurl.org/zoneinfo-outlook/Europe/Berlin
X-LIC-LOCATION:Europe/Berlin
END:VTIMEZONE
BEGIN:VEVENT
UID:69ed2e87adf7d
LOCATION:An der Marienkirche , 17033 Neubrandenburg
SUMMARY;ENCODING=QUOTED-PRINTABLE:Bridgerton
DESCRIPTION;ENCODING=QUOTED-PRINTABLE:Konzert bei Kerzenschein
URL;VALUE=URI:https://tmvwhl.infomaxnet.de/nb-de/e-bridgerton?eventDateId=20204408&widgetToken=2UvrbVzILvI.&
CLASS:PUBLIC
DTSTART:20260517T210000
DTSTAMP:20260425T231343
END:VEVENT
END:VCALENDAR