BEGIN:VCALENDAR
VERSION:2.0
PRODID:http://www.infomax-online.de/imxeventmanager/
METHOD:PUBLISH
BEGIN:VTIMEZONE
TZID:Europe/Berlin
TZURL:http://tzurl.org/zoneinfo-outlook/Europe/Berlin
X-LIC-LOCATION:Europe/Berlin
END:VTIMEZONE
BEGIN:VEVENT
UID:69ed07e61b7ae
LOCATION:Pfaffenstraße 22, 17033 Neubrandenburg
SUMMARY;ENCODING=QUOTED-PRINTABLE:Vor dem Fest
DESCRIPTION;ENCODING=QUOTED-PRINTABLE:nach dem Roman von Saša Stanišić I Für die Bühne bearbeitet von=0D=0ADavid Czesienski
URL;VALUE=URI:https://tmvwhl.infomaxnet.de/nb-de/e-vor-dem-fest-1?eventDateId=20197597&widgetToken=2UvrbVzILvI.&
CLASS:PUBLIC
DTSTART:20260501T160000
DTSTAMP:20260425T202854
END:VEVENT
END:VCALENDAR