BEGIN:VCALENDAR
VERSION:2.0
PRODID:http://www.infomax-online.de/imxeventmanager/
METHOD:PUBLISH
BEGIN:VTIMEZONE
TZID:Europe/Berlin
TZURL:http://tzurl.org/zoneinfo-outlook/Europe/Berlin
X-LIC-LOCATION:Europe/Berlin
END:VTIMEZONE
BEGIN:VEVENT
UID:69ed1cb9b2fe7
LOCATION:Marktplatz 1, 17033 Neubrandenburg
SUMMARY;ENCODING=QUOTED-PRINTABLE:die hakabé fotoreihe
DESCRIPTION;ENCODING=QUOTED-PRINTABLE:MeerSeen ‐ abstrakte & minimalistische Fotografien Holger Nimtz
URL;VALUE=URI:https://tmvwhl.infomaxnet.de/nb-de/e-die-hakabe-fotoreihe-13?eventDateId=20157018&widgetToken=2UvrbVzILvI.&
CLASS:PUBLIC
DTSTART:20260427T100000
DTSTAMP:20260425T215745
END:VEVENT
END:VCALENDAR