BEGIN:VCALENDAR
VERSION:2.0
PRODID:http://www.infomax-online.de/imxeventmanager/
METHOD:PUBLISH
BEGIN:VTIMEZONE
TZID:Europe/Berlin
TZURL:http://tzurl.org/zoneinfo-outlook/Europe/Berlin
X-LIC-LOCATION:Europe/Berlin
END:VTIMEZONE
BEGIN:VEVENT
UID:69eccebf4f7d3
LOCATION:Marktplatz 1, 17033 Neubrandenburg
SUMMARY;ENCODING=QUOTED-PRINTABLE:Neubrandenburger Bücherfrühling
DESCRIPTION;ENCODING=QUOTED-PRINTABLE:Seit über 30 Jahren gibt es den traditionellen Bücherfrühling in=0D=0Ader Vier-Tore-Stadt Neubrandenburg. Am 25. April 2026 eröffnet der=0D=0AAutor und Filmstar Sabin Tambrea mit seinem Buch "Vaterländer" den=0D=0Adiesjährigen Bücherfrühling.
URL;VALUE=URI:https://tmvwhl.infomaxnet.de/nb-de/e-neubrandenburger-buecherfruehling?eventDateId=20138894&widgetToken=2UvrbVzILvI.&
CLASS:PUBLIC
DTSTART:20260425T190000
DTSTAMP:20260425T162503
END:VEVENT
END:VCALENDAR