BEGIN:VCALENDAR
VERSION:2.0
PRODID:http://www.infomax-online.de/imxeventmanager/
METHOD:PUBLISH
BEGIN:VTIMEZONE
TZID:Europe/Berlin
TZURL:http://tzurl.org/zoneinfo-outlook/Europe/Berlin
X-LIC-LOCATION:Europe/Berlin
END:VTIMEZONE
BEGIN:VEVENT
UID:69ecba0cbdf80
LOCATION:Pfaffenstraße 22, 17033 Neubrandenburg
SUMMARY;ENCODING=QUOTED-PRINTABLE:Karneval der Tiere
DESCRIPTION;ENCODING=QUOTED-PRINTABLE:Eine tierische Geschichte (5+) für Erzähler, Bläserquintett und=0D=0ASchlagzeug
URL;VALUE=URI:https://tmvwhl.infomaxnet.de/nb-de/e-karneval-der-tiere-6?eventDateId=20077031&widgetToken=2UvrbVzILvI.&
CLASS:PUBLIC
DTSTART:20260428T090000
DTSTAMP:20260425T145644
END:VEVENT
END:VCALENDAR