BEGIN:VCALENDAR
VERSION:2.0
PRODID:http://www.infomax-online.de/imxeventmanager/
METHOD:PUBLISH
BEGIN:VTIMEZONE
TZID:Europe/Berlin
TZURL:http://tzurl.org/zoneinfo-outlook/Europe/Berlin
X-LIC-LOCATION:Europe/Berlin
END:VTIMEZONE
BEGIN:VEVENT
UID:69ed07c888b72
LOCATION:Pfaffenstraße 22, 17033 Neubrandenburg
SUMMARY;ENCODING=QUOTED-PRINTABLE:Marika Rökk – Eine Nacht voller Seligkeit?
DESCRIPTION;ENCODING=QUOTED-PRINTABLE:Eine musikalische Revue von und mit Laura Scherwitzl
URL;VALUE=URI:https://tmvwhl.infomaxnet.de/nb-de/e-marika-roekk-eine-nacht-voller-seligkeit?eventDateId=20062924&widgetToken=2UvrbVzILvI.&
CLASS:PUBLIC
DTSTART:20260426T160000
DTSTAMP:20260425T202824
END:VEVENT
END:VCALENDAR