BEGIN:VCALENDAR
VERSION:2.0
PRODID:http://www.infomax-online.de/imxeventmanager/
METHOD:PUBLISH
BEGIN:VTIMEZONE
TZID:Europe/Berlin
TZURL:http://tzurl.org/zoneinfo-outlook/Europe/Berlin
X-LIC-LOCATION:Europe/Berlin
END:VTIMEZONE
BEGIN:VEVENT
UID:69e7bfe5140ef
LOCATION:Gessin 7b, 17139 Gessin
SUMMARY;ENCODING=QUOTED-PRINTABLE:✨ Start spring with superpowers
DESCRIPTION;ENCODING=QUOTED-PRINTABLE:We cordially invite you to a special morning that is all about your=0D=0Ahealth.
URL;VALUE=URI:https://tmvwhl.infomaxnet.de/mecklenburger-parkland-en/en/e-get-started-with-super-strengths-into-the-spring?eventDateId=20238779&widgetToken=Xe7ojsoiDO8.&
CLASS:PUBLIC
DTSTART:20260425T100000
DTSTAMP:20260421T202021
END:VEVENT
END:VCALENDAR