BEGIN:VCALENDAR
VERSION:2.0
PRODID:http://www.infomax-online.de/imxeventmanager/
METHOD:PUBLISH
BEGIN:VTIMEZONE
TZID:Europe/Berlin
TZURL:http://tzurl.org/zoneinfo-outlook/Europe/Berlin
X-LIC-LOCATION:Europe/Berlin
END:VTIMEZONE
BEGIN:VEVENT
UID:69e7a7111f766
LOCATION:Am Markt 1, 18337 Marlow
SUMMARY;ENCODING=QUOTED-PRINTABLE:ScanHausCup Marlow
DESCRIPTION;ENCODING=QUOTED-PRINTABLE:The ScanHausCup is the biggest cycling event in the north and turns=0D=0Athe Green City of Marlow into the cycling center on the coast for two=0D=0Adays.
URL;VALUE=URI:https://tmvwhl.infomaxnet.de/mecklenburger-parkland-en/en/e-scanhauscup-marlow-17?eventDateId=20232299&widgetToken=Xe7ojsoiDO8.&
CLASS:PUBLIC
DTSTART:20260426T090000
DTSTAMP:20260421T183425
END:VEVENT
END:VCALENDAR