BEGIN:VCALENDAR
VERSION:2.0
PRODID:http://www.infomax-online.de/imxeventmanager/
METHOD:PUBLISH
BEGIN:VTIMEZONE
TZID:Europe/Berlin
TZURL:http://tzurl.org/zoneinfo-outlook/Europe/Berlin
X-LIC-LOCATION:Europe/Berlin
END:VTIMEZONE
BEGIN:VEVENT
UID:69e76401dd6fe
LOCATION:Steinstraße 6, 17139 Malchin
SUMMARY;ENCODING=QUOTED-PRINTABLE:Cycling in Malchin - On your bikes, get set, spring!
DESCRIPTION;ENCODING=QUOTED-PRINTABLE:Family tour and live music at the harbor on April 24, 2026 From April=0D=0A24 to 26, 2026, the Mecklenburg Lake District is inviting cyclists for=0D=0Athe first time - a new experience for locals, families, sports=0D=0Aenthusiasts and guests.
URL;VALUE=URI:https://tmvwhl.infomaxnet.de/mecklenburger-parkland-en/en/e-anradeln-in-malchin-on-the-bikes-finished-fruehling-2?eventDateId=20231957&widgetToken=Xe7ojsoiDO8.&
CLASS:PUBLIC
DTSTART:20260424T100000
DTSTAMP:20260421T134817
END:VEVENT
END:VCALENDAR