BEGIN:VCALENDAR
VERSION:2.0
PRODID:http://www.infomax-online.de/imxeventmanager/
METHOD:PUBLISH
BEGIN:VTIMEZONE
TZID:Europe/Berlin
TZURL:http://tzurl.org/zoneinfo-outlook/Europe/Berlin
X-LIC-LOCATION:Europe/Berlin
END:VTIMEZONE
BEGIN:VEVENT
UID:69e795c2b8aba
LOCATION:Franz-Parr-Platz 9, 18273 Güstrow
SUMMARY;ENCODING=QUOTED-PRINTABLE:Delights at the monastery market
DESCRIPTION;ENCODING=QUOTED-PRINTABLE:Discover the Middle Ages in Rühn by bike
URL;VALUE=URI:https://tmvwhl.infomaxnet.de/mecklenburger-parkland-en/en/e-genuesse-auf-dem-klostermarkt?eventDateId=20208239&widgetToken=Xe7ojsoiDO8.&
CLASS:PUBLIC
DTSTART:20260510T100000
DTSTAMP:20260421T172034
END:VEVENT
END:VCALENDAR