BEGIN:VCALENDAR
VERSION:2.0
PRODID:http://www.infomax-online.de/imxeventmanager/
METHOD:PUBLISH
BEGIN:VTIMEZONE
TZID:Europe/Berlin
TZURL:http://tzurl.org/zoneinfo-outlook/Europe/Berlin
X-LIC-LOCATION:Europe/Berlin
END:VTIMEZONE
BEGIN:VEVENT
UID:69e77a091fe14
LOCATION:Marktplatz 1-3, 17166 Teterow
SUMMARY;ENCODING=QUOTED-PRINTABLE:Lake district rolls in - cycling in Teterow
DESCRIPTION;ENCODING=QUOTED-PRINTABLE:Forest and meadow tour through Mecklenburg Switzerland around the=0D=0Amountain town of Teterow
URL;VALUE=URI:https://tmvwhl.infomaxnet.de/mecklenburger-parkland-en/en/e-lake-plate-rolling-on-bikes-in-teterow?eventDateId=20167874&widgetToken=Xe7ojsoiDO8.&
CLASS:PUBLIC
DTSTART:20260424T140000
DTSTAMP:20260421T152217
END:VEVENT
END:VCALENDAR