BEGIN:VCALENDAR
VERSION:2.0
PRODID:http://www.infomax-online.de/imxeventmanager/
METHOD:PUBLISH
BEGIN:VTIMEZONE
TZID:Europe/Berlin
TZURL:http://tzurl.org/zoneinfo-outlook/Europe/Berlin
X-LIC-LOCATION:Europe/Berlin
END:VTIMEZONE
BEGIN:VEVENT
UID:69e7ed0915519
LOCATION:Dr.-Friedrich-Dittmann-Weg 1, 18258 Schwaan-Waldeck
SUMMARY;ENCODING=QUOTED-PRINTABLE:New exhibition brings colorful rays of hope to everyday hospital life
DESCRIPTION;ENCODING=QUOTED-PRINTABLE:Heidi Wergien from Baumgarten shows her art at the Neuroclinics=0D=0AWaldeck in Schwaan
URL;VALUE=URI:https://tmvwhl.infomaxnet.de/mecklenburger-parkland-en/en/e-new-exhibition-bringing-colorful-glimpses-of-light-into-clinic-everyday-life?eventDateId=20147765&widgetToken=Xe7ojsoiDO8.&
CLASS:PUBLIC
DTSTART:20260424T150000
DTSTAMP:20260421T233257
END:VEVENT
END:VCALENDAR