BEGIN:VCALENDAR
VERSION:2.0
PRODID:http://www.infomax-online.de/imxeventmanager/
METHOD:PUBLISH
BEGIN:VTIMEZONE
TZID:Europe/Berlin
TZURL:http://tzurl.org/zoneinfo-outlook/Europe/Berlin
X-LIC-LOCATION:Europe/Berlin
END:VTIMEZONE
BEGIN:VEVENT
UID:69e77b3958ecf
LOCATION:Barnstorfer Ring 1, 18059 Rostock
SUMMARY;ENCODING=QUOTED-PRINTABLE:Tour of the "Green Art Gallery" at Rostock Zoo
DESCRIPTION;ENCODING=QUOTED-PRINTABLE:As part of the exhibition "The 3rd Dimension - Sculptures from the=0D=0ACollection", a tour will take place at Rostock Zoological Garden
URL;VALUE=URI:https://tmvwhl.infomaxnet.de/mecklenburger-parkland-en/en/e-tour-through-the-green-art-hall-at-the-rostock-zoo?eventDateId=20141806&widgetToken=Xe7ojsoiDO8.&
CLASS:PUBLIC
DTSTART:20260424T160000
DTSTAMP:20260421T152721
END:VEVENT
END:VCALENDAR