BEGIN:VCALENDAR
VERSION:2.0
PRODID:http://www.infomax-online.de/imxeventmanager/
METHOD:PUBLISH
BEGIN:VTIMEZONE
TZID:Europe/Berlin
TZURL:http://tzurl.org/zoneinfo-outlook/Europe/Berlin
X-LIC-LOCATION:Europe/Berlin
END:VTIMEZONE
BEGIN:VEVENT
UID:69ea36033a265
LOCATION:Turnplatz , 17139 Malchin
SUMMARY;ENCODING=QUOTED-PRINTABLE:Day of the tree
DESCRIPTION;ENCODING=QUOTED-PRINTABLE:Planting a trembling poplar, the tree of the year 2026
URL;VALUE=URI:https://tmvwhl.infomaxnet.de/mecklenburger-parkland-en/en/e-day-of-the-tree-5?eventDateId=20082284&widgetToken=Xe7ojsoiDO8.&
CLASS:PUBLIC
DTSTART:20260424T140000
DTSTAMP:20260423T170851
END:VEVENT
END:VCALENDAR