BEGIN:VCALENDAR
VERSION:2.0
PRODID:http://www.infomax-online.de/imxeventmanager/
METHOD:PUBLISH
BEGIN:VTIMEZONE
TZID:Europe/Berlin
TZURL:http://tzurl.org/zoneinfo-outlook/Europe/Berlin
X-LIC-LOCATION:Europe/Berlin
END:VTIMEZONE
BEGIN:VEVENT
UID:69e5e90ee7846
LOCATION:Franz-Parr-Platz 8, 18273 Güstrow
SUMMARY;ENCODING=QUOTED-PRINTABLE:Cinema: Cranko
DESCRIPTION;ENCODING=QUOTED-PRINTABLE:Feature film Germany 2024
URL;VALUE=URI:https://tmvwhl.infomaxnet.de/mecklenburger-parkland-en/en/e-cinema-cranko?eventDateId=20047672&widgetToken=Xe7ojsoiDO8.&
CLASS:PUBLIC
DTSTART:20260429T193000
DTSTAMP:20260420T105126
END:VEVENT
END:VCALENDAR