BEGIN:VCALENDAR
VERSION:2.0
PRODID:http://www.infomax-online.de/imxeventmanager/
METHOD:PUBLISH
BEGIN:VTIMEZONE
TZID:Europe/Berlin
TZURL:http://tzurl.org/zoneinfo-outlook/Europe/Berlin
X-LIC-LOCATION:Europe/Berlin
END:VTIMEZONE
BEGIN:VEVENT
UID:69eb7a4f0b894
LOCATION:Stralsunder Str. 38, 18337 Marlow
SUMMARY;ENCODING=QUOTED-PRINTABLE:Fishing license course spring - Marlow
DESCRIPTION;ENCODING=QUOTED-PRINTABLE:To acquire the M/V fishing license for life. Required from the age of=0D=0A14. In Marlow, Ribnitz and Daskow. Can be combined with a vacation in=0D=0Athe Recknitz Valley. We will be happy to arrange suitable=0D=0Aaccommodation for you!
URL;VALUE=URI:https://tmvwhl.infomaxnet.de/mecklenburger-parkland-en/en/e-fishing-license-course?eventDateId=19880855&widgetToken=Xe7ojsoiDO8.&
CLASS:PUBLIC
DTSTART:20260426T100000
DTSTAMP:20260424T161231
END:VEVENT
END:VCALENDAR