BEGIN:VCALENDAR
VERSION:2.0
PRODID:http://www.infomax-online.de/imxeventmanager/
METHOD:PUBLISH
BEGIN:VTIMEZONE
TZID:Europe/Berlin
TZURL:http://tzurl.org/zoneinfo-outlook/Europe/Berlin
X-LIC-LOCATION:Europe/Berlin
END:VTIMEZONE
BEGIN:VEVENT
UID:69e7793a7ca50
LOCATION:Am Wall 2, 18273 Güstrow
SUMMARY;ENCODING=QUOTED-PRINTABLE:Welttag des Buches
DESCRIPTION;ENCODING=QUOTED-PRINTABLE:Aktion zum Welttag des Buches in der Bibliothek
URL;VALUE=URI:https://tmvwhl.infomaxnet.de/mecklenburger-parkland-de/e-welttag-des-buches-6?eventDateId=20248535&widgetToken=Xe7ojsoiDO8.&
CLASS:PUBLIC
DTSTART:20260423T100000
DTSTAMP:20260421T151850
END:VEVENT
END:VCALENDAR