BEGIN:VCALENDAR
VERSION:2.0
PRODID:http://www.infomax-online.de/imxeventmanager/
METHOD:PUBLISH
BEGIN:VTIMEZONE
TZID:Europe/Berlin
TZURL:http://tzurl.org/zoneinfo-outlook/Europe/Berlin
X-LIC-LOCATION:Europe/Berlin
END:VTIMEZONE
BEGIN:VEVENT
UID:69e7d228c51a4
LOCATION:Gessin 7b, 17139 Gessin
SUMMARY;ENCODING=QUOTED-PRINTABLE:✨ Mit Superkräften in den Frühling starten
DESCRIPTION;ENCODING=QUOTED-PRINTABLE:Wir laden Dich herzlich zu einem besonderen Vormittag ein, bei dem=0D=0Asich alles um deine Gesundheit dreht.
URL;VALUE=URI:https://tmvwhl.infomaxnet.de/mecklenburger-parkland-de/e-mit-superkraeften-in-den-fruehling-starten?eventDateId=20238779&widgetToken=Xe7ojsoiDO8.&
CLASS:PUBLIC
DTSTART:20260425T100000
DTSTAMP:20260421T213816
END:VEVENT
END:VCALENDAR