BEGIN:VCALENDAR
VERSION:2.0
PRODID:http://www.infomax-online.de/imxeventmanager/
METHOD:PUBLISH
BEGIN:VTIMEZONE
TZID:Europe/Berlin
TZURL:http://tzurl.org/zoneinfo-outlook/Europe/Berlin
X-LIC-LOCATION:Europe/Berlin
END:VTIMEZONE
BEGIN:VEVENT
UID:69e7a49893f21
LOCATION:Am Markt 1, 18337 Marlow
SUMMARY;ENCODING=QUOTED-PRINTABLE:ScanHausCup Marlow
DESCRIPTION;ENCODING=QUOTED-PRINTABLE:Der ScanHausCup ist das größte Radsport-Ereignis im Norden und macht=0D=0Adie Grüne Stadt Marlow für zwei Tage zum Radler-Zentrum an der=0D=0AKüste.
URL;VALUE=URI:https://tmvwhl.infomaxnet.de/mecklenburger-parkland-de/e-scanhaus-cup-marlow?eventDateId=20232298&widgetToken=Xe7ojsoiDO8.&
CLASS:PUBLIC
DTSTART:20260425T090000
DTSTAMP:20260421T182352
END:VEVENT
END:VCALENDAR