BEGIN:VCALENDAR
VERSION:2.0
PRODID:http://www.infomax-online.de/imxeventmanager/
METHOD:PUBLISH
BEGIN:VTIMEZONE
TZID:Europe/Berlin
TZURL:http://tzurl.org/zoneinfo-outlook/Europe/Berlin
X-LIC-LOCATION:Europe/Berlin
END:VTIMEZONE
BEGIN:VEVENT
UID:69e7794a62271
LOCATION:Steinstraße 6, 17139 Malchin
SUMMARY;ENCODING=QUOTED-PRINTABLE:Anradeln in Malchin - Auf die Räder, fertig, Frühling!
DESCRIPTION;ENCODING=QUOTED-PRINTABLE:Familientour und Live-Musik am Hafen am 24. April 2026 Zum ersten Mal=0D=0Alädt die Mecklenburgische Seenplatte vom 24. bis 26. April 2026 zum=0D=0AAnradeln ein - ein neues Erlebnisangebot für Einheimische, Familien,=0D=0Asportlich Aktive und Gäste.
URL;VALUE=URI:https://tmvwhl.infomaxnet.de/mecklenburger-parkland-de/e-anradeln-in-malchin-auf-die-raeder-fertig-fruehling-2?eventDateId=20231957&widgetToken=Xe7ojsoiDO8.&
CLASS:PUBLIC
DTSTART:20260424T100000
DTSTAMP:20260421T151906
END:VEVENT
END:VCALENDAR