BEGIN:VCALENDAR
VERSION:2.0
PRODID:http://www.infomax-online.de/imxeventmanager/
METHOD:PUBLISH
BEGIN:VTIMEZONE
TZID:Europe/Berlin
TZURL:http://tzurl.org/zoneinfo-outlook/Europe/Berlin
X-LIC-LOCATION:Europe/Berlin
END:VTIMEZONE
BEGIN:VEVENT
UID:69e7a6ab9a1bf
LOCATION:Franz-Parr-Platz 9, 18273 Güstrow
SUMMARY;ENCODING=QUOTED-PRINTABLE:Genüsse auf dem Klostermarkt
DESCRIPTION;ENCODING=QUOTED-PRINTABLE:Mittelalter in Rühn per Rad entdecken
URL;VALUE=URI:https://tmvwhl.infomaxnet.de/mecklenburger-parkland-de/e-genuesse-auf-dem-klostermarkt?eventDateId=20208239&widgetToken=Xe7ojsoiDO8.&
CLASS:PUBLIC
DTSTART:20260510T100000
DTSTAMP:20260421T183243
END:VEVENT
END:VCALENDAR