BEGIN:VCALENDAR
VERSION:2.0
PRODID:http://www.infomax-online.de/imxeventmanager/
METHOD:PUBLISH
BEGIN:VTIMEZONE
TZID:Europe/Berlin
TZURL:http://tzurl.org/zoneinfo-outlook/Europe/Berlin
X-LIC-LOCATION:Europe/Berlin
END:VTIMEZONE
BEGIN:VEVENT
UID:69e7917f20c26
LOCATION:Marktplatz 1-3, 17166 Teterow
SUMMARY;ENCODING=QUOTED-PRINTABLE:Anradeln in Teterow - Auf die Räder fertig, Frühling
DESCRIPTION;ENCODING=QUOTED-PRINTABLE:Wald- und Wiesentour durch die Mecklenburgische Schweiz rund um die=0D=0ABergringstadt Teterow
URL;VALUE=URI:https://tmvwhl.infomaxnet.de/mecklenburger-parkland-de/e-anradeln-in-teterow-auf-die-raeder-fertig-fruehling?eventDateId=20167874&widgetToken=Xe7ojsoiDO8.&
CLASS:PUBLIC
DTSTART:20260424T140000
DTSTAMP:20260421T170223
END:VEVENT
END:VCALENDAR