BEGIN:VCALENDAR
VERSION:2.0
PRODID:http://www.infomax-online.de/imxeventmanager/
METHOD:PUBLISH
BEGIN:VTIMEZONE
TZID:Europe/Berlin
TZURL:http://tzurl.org/zoneinfo-outlook/Europe/Berlin
X-LIC-LOCATION:Europe/Berlin
END:VTIMEZONE
BEGIN:VEVENT
UID:69e7947fa22b8
LOCATION:Barnstorfer Ring 1, 18059 Rostock
SUMMARY;ENCODING=QUOTED-PRINTABLE:Rundgang durch die "Grüne Kunsthalle" im Rostocker Zoo
DESCRIPTION;ENCODING=QUOTED-PRINTABLE:Im Rahmen der Ausstellung „Die 3. Dimension – Skulpturen aus der=0D=0ASammlung“ findet im Zoologischen Garten Rostock ein Rundgang statt
URL;VALUE=URI:https://tmvwhl.infomaxnet.de/mecklenburger-parkland-de/e-rundgang-durch-die-gruene-kunsthalle-im-rostocker-zoo-2?eventDateId=20141806&widgetToken=Xe7ojsoiDO8.&
CLASS:PUBLIC
DTSTART:20260424T160000
DTSTAMP:20260421T171511
END:VEVENT
END:VCALENDAR