BEGIN:VCALENDAR
VERSION:2.0
PRODID:http://www.infomax-online.de/imxeventmanager/
METHOD:PUBLISH
BEGIN:VTIMEZONE
TZID:Europe/Berlin
TZURL:http://tzurl.org/zoneinfo-outlook/Europe/Berlin
X-LIC-LOCATION:Europe/Berlin
END:VTIMEZONE
BEGIN:VEVENT
UID:69ea5fd7eee7b
LOCATION:Turnplatz , 17139 Malchin
SUMMARY;ENCODING=QUOTED-PRINTABLE:Tag des Baumes
DESCRIPTION;ENCODING=QUOTED-PRINTABLE:Pflanzaktion einer Zitter-Pappel, dem Baum des Jahres 2026
URL;VALUE=URI:https://tmvwhl.infomaxnet.de/mecklenburger-parkland-de/e-tag-des-baumes-5?eventDateId=20082284&widgetToken=Xe7ojsoiDO8.&
CLASS:PUBLIC
DTSTART:20260424T140000
DTSTAMP:20260423T200719
END:VEVENT
END:VCALENDAR