BEGIN:VCALENDAR
VERSION:2.0
PRODID:http://www.infomax-online.de/imxeventmanager/
METHOD:PUBLISH
BEGIN:VTIMEZONE
TZID:Europe/Berlin
TZURL:http://tzurl.org/zoneinfo-outlook/Europe/Berlin
X-LIC-LOCATION:Europe/Berlin
END:VTIMEZONE
BEGIN:VEVENT
UID:69e88f9b82e80
LOCATION:Gessin 7, 17139 Gessin
SUMMARY;ENCODING=QUOTED-PRINTABLE:Vinyasa Yoga in Gessin
DESCRIPTION;ENCODING=QUOTED-PRINTABLE:JEDEN DIENSTAG UM 18.00 – 19:30
URL;VALUE=URI:https://tmvwhl.infomaxnet.de/mecklenburger-parkland-de/e-yoga-in-gessin?eventDateId=19614620&widgetToken=Xe7ojsoiDO8.&
CLASS:PUBLIC
DTSTART:20260421T180000
DTSTAMP:20260422T110635
END:VEVENT
END:VCALENDAR