BEGIN:VCALENDAR
VERSION:2.0
PRODID:http://www.infomax-online.de/imxeventmanager/
METHOD:PUBLISH
BEGIN:VTIMEZONE
TZID:Europe/Berlin
TZURL:http://tzurl.org/zoneinfo-outlook/Europe/Berlin
X-LIC-LOCATION:Europe/Berlin
END:VTIMEZONE
BEGIN:VEVENT
UID:69e7bc8b50a3b
LOCATION:Gessin 7b, 17139 Gessin
SUMMARY;ENCODING=QUOTED-PRINTABLE:Hatha Yoga mit Nico
DESCRIPTION;ENCODING=QUOTED-PRINTABLE:Immer am Donnerstag 18 – 19:30 Uhr
URL;VALUE=URI:https://tmvwhl.infomaxnet.de/mecklenburger-parkland-de/e-hatha-yoga-mit-nico-1?eventDateId=19575680&widgetToken=Xe7ojsoiDO8.&
CLASS:PUBLIC
DTSTART:20260423T180000
DTSTAMP:20260421T200603
END:VEVENT
END:VCALENDAR